BEGIN:VCALENDAR
VERSION:2.0
PRODID:-//Magie des Jardins - ECPv5.13.0//NONSGML v1.0//EN
CALSCALE:GREGORIAN
METHOD:PUBLISH
X-WR-CALNAME:Magie des Jardins
X-ORIGINAL-URL:https://www.magie-des-jardins.be
X-WR-CALDESC:évènements pour Magie des Jardins
REFRESH-INTERVAL;VALUE=DURATION:PT1H
X-Robots-Tag:noindex
X-PUBLISHED-TTL:PT1H
BEGIN:VTIMEZONE
TZID:Europe/Brussels
BEGIN:DAYLIGHT
TZOFFSETFROM:+0100
TZOFFSETTO:+0200
TZNAME:CEST
DTSTART:20150329T010000
END:DAYLIGHT
BEGIN:STANDARD
TZOFFSETFROM:+0200
TZOFFSETTO:+0100
TZNAME:CET
DTSTART:20151025T010000
END:STANDARD
END:VTIMEZONE
BEGIN:VEVENT
DTSTART;TZID=Europe/Brussels:20150429T080000
DTEND;TZID=Europe/Brussels:20150501T170000
DTSTAMP:20260423T205620
CREATED:20220619T124913Z
LAST-MODIFIED:20220619T124913Z
UID:20629-1430294400-1430499600@www.magie-des-jardins.be
SUMMARY:Fête des plantes et du jardin (Aywiers)
DESCRIPTION:Les quelques 190 professionnels du monde des jardins venant de Belgique et de l’étranger\, l’élite de la botanique et de l’horticulture\, seront présent à l’ancienne abbaye cistercienne d’Aywiers les 29\, 30 avril et 1er mai prochains … \n\n\n\n  \n\nRenseignements pratiques : \n\n\nDate – horaire:\n\nVendr 29 avril de 13h à 18h30\, sam 30 avril et dim 1 mai de 10 à 18h\n\n\n\nEntrée – prix:\n\n10 Euro/pers\, Gratuit pour – 16 ans\n\n\n\nAdresse:\n\n\n\nRue de l’Abbaye 14\n\n1380 Lasne (Couture-St-Germain)\nBelgique
URL:https://www.magie-des-jardins.be/agenda/fete-des-plantes-et-du-jardin-aywiers/
LOCATION:Aywiers\, Rue de l'Abbaye 14\, Lasnes\, Belgium
CATEGORIES:sponso
ATTACH;FMTTYPE=image/jpeg:https://www.magie-des-jardins.be/storage/2022/06/AYWIERS.jpeg
END:VEVENT
END:VCALENDAR