BEGIN:VCALENDAR
VERSION:2.0
PRODID:-//Magie des Jardins - ECPv5.13.0//NONSGML v1.0//EN
CALSCALE:GREGORIAN
METHOD:PUBLISH
X-WR-CALNAME:Magie des Jardins
X-ORIGINAL-URL:https://www.magie-des-jardins.be
X-WR-CALDESC:évènements pour Magie des Jardins
REFRESH-INTERVAL;VALUE=DURATION:PT1H
X-Robots-Tag:noindex
X-PUBLISHED-TTL:PT1H
BEGIN:VTIMEZONE
TZID:Europe/Brussels
BEGIN:DAYLIGHT
TZOFFSETFROM:+0100
TZOFFSETTO:+0200
TZNAME:CEST
DTSTART:20210328T010000
END:DAYLIGHT
BEGIN:STANDARD
TZOFFSETFROM:+0200
TZOFFSETTO:+0100
TZNAME:CET
DTSTART:20211031T010000
END:STANDARD
END:VTIMEZONE
BEGIN:VEVENT
DTSTART;TZID=Europe/Brussels:20210510T080000
DTEND;TZID=Europe/Brussels:20211114T170000
DTSTAMP:20260422T120446
CREATED:20220619T103934Z
LAST-MODIFIED:20220619T103934Z
UID:20606-1620633600-1636909200@www.magie-des-jardins.be
SUMMARY:Expo d’art contemporain dans le parc du château de Seneffe
DESCRIPTION:Comme chaque année de mai à novembre\, vous pouvez admirer dans le magnifique parc du château de Seneffe des sculptures contemporaines. Cette fois-ci\, l’artiste plasticienne\, Tinka Pittoors propose « SON » parcours artistique\, intitulé « Les voyageurs »\, dans le parc et les jardins du Domaine du Château de Seneffe. Cela fait 2 ans qu’elle travaille sur son concept d’exposition de plein air à Seneffe pour y créer « SON » univers tantôt coloré\, tantôt sombre\, à la fois d’ici et d’ailleurs et toujours empreint de poésie … \nRenseignements pratiques : \nDate – horaire:\nDu 10 mai au 14 novembre 2021: tous les jours de 10h à 18h\nEntrée – prix:\nGratuit\nAdresse:\nRue Lucien Plasman 7- 9\n7180 Seneffe (Nivelles)\nBelgique
URL:https://www.magie-des-jardins.be/agenda/expo-art-contemporain-parc-chateau-seneffe-2021/
LOCATION:Seneffe\, Rue Lucien Plasman 7- 9\, Nivelles\, Belgium
ATTACH;FMTTYPE=image/jpeg:https://www.magie-des-jardins.be/storage/2022/06/chateau-de-seneffe.jpeg
END:VEVENT
BEGIN:VEVENT
DTSTART;TZID=Europe/Brussels:20210522T080000
DTEND;TZID=Europe/Brussels:20210524T170000
DTSTAMP:20260422T120446
CREATED:20220619T133130Z
LAST-MODIFIED:20220619T133130Z
UID:20669-1621670400-1621875600@www.magie-des-jardins.be
SUMMARY:Pivoines en fleurs chez Graefswinning (Nieuwerkerken / St-Trond)
DESCRIPTION:Découvrez et admirez au printemps la beauté et la diversité des nombreuses pivoines en fleurs chez Graefswinning qui cultive plus de 300 variétés. Visite des champs de fleurs et de la pépinière … \nCovid : Si autorisations nécessaires et avec toutes les mesures indispensables\n\n\n\n  \n\nRenseignements pratiques :\nDate – horaire:\nDu samedi 22 mai au lundi 24 mai 2021 \n\n\nEntrée – prix:\n\nGratuit\n\n\n\nAdresse:\n\n\n\nDiestersteenweg 222\n\n3850 Nieuwerkerken / Saint-Trond\nBelgique
URL:https://www.magie-des-jardins.be/agenda/pivoines-fleurs-graefswinning-nieuwerkerken-st-trond/
LOCATION:Saint Trond\, Diestersteenweg 222\, Saint-Trond\, Belgium
ATTACH;FMTTYPE=image/jpeg:https://www.magie-des-jardins.be/storage/2022/06/pivoines-graefswinning-2019_5.jpeg
END:VEVENT
END:VCALENDAR