BEGIN:VCALENDAR
VERSION:2.0
PRODID:-//Magie des Jardins - ECPv5.13.0//NONSGML v1.0//EN
CALSCALE:GREGORIAN
METHOD:PUBLISH
X-WR-CALNAME:Magie des Jardins
X-ORIGINAL-URL:https://www.magie-des-jardins.be
X-WR-CALDESC:évènements pour Magie des Jardins
REFRESH-INTERVAL;VALUE=DURATION:PT1H
X-Robots-Tag:noindex
X-PUBLISHED-TTL:PT1H
BEGIN:VTIMEZONE
TZID:Europe/Brussels
BEGIN:DAYLIGHT
TZOFFSETFROM:+0100
TZOFFSETTO:+0200
TZNAME:CEST
DTSTART:20200329T010000
END:DAYLIGHT
BEGIN:STANDARD
TZOFFSETFROM:+0200
TZOFFSETTO:+0100
TZNAME:CET
DTSTART:20201025T010000
END:STANDARD
END:VTIMEZONE
BEGIN:VEVENT
DTSTART;TZID=Europe/Brussels:20200924T080000
DTEND;TZID=Europe/Brussels:20201031T170000
DTSTAMP:20260422T033433
CREATED:20220619T102938Z
LAST-MODIFIED:20220619T102938Z
UID:20595-1600934400-1604163600@www.magie-des-jardins.be
SUMMARY:Courges en fête aux Jardins de Vertumne (Ohey)
DESCRIPTION:SOUS RESERVE D’AUTORISATIONS \nJournées spéciales dédiées aux produits d’automne des « Jardins de Vertumne » et toujours en vedette : les Cucurbitacées ainsi que tous les autres produits d’automne cultivés sans pesticides comme oignons\, échalotes\, ail\, pommes de terre\, poireaux\, …. \nDans son cadre verdoyant et dans une ambiance familiale\, les « Authentiques automnales  » sont devenues un lieu de rencontre incontournable pour tous les passionnés de Cucurbitacées et de jardins ainsi que pour tous les curieux du goût authentique. \nDans un décor d’exception unique\, les décorations de jardins\, les Cucurbitacées vous seront présentées. Petites\, grosses\, jaunes\, blanches\, vertes\,… dodues ou cornues… elles sont destinées à la décoration ou à vous régaler. Dans leur simplicité et leur beauté naturelle\, ces fruits de la terre créent une diversité et un enchantement. Ils ensoleilleront votre cadre de vie par leurs formes et par leurs couleurs chatoyantes. \nVenez en famille\, admirer et goûter ces fruits merveilleux et fascinants. \nRenseignements pratiques : \n\n\n\n\nDate – horaire: \n\nDu 24/09 au 31/10/20: Uniquement du mercredi au samedi de 9h à 18h.\n\n\n\nEntrée – prix: \n\nGratuit\n\n\n\nAdresse: \n\n\n\nRue de Ciney 149\n\n5350 Ohey\nBelgique \n 
URL:https://www.magie-des-jardins.be/agenda/courges-fete-jardins-vertumne-2020/
LOCATION:Ciney\, Rue de Marché Couvert 3\, Ciney\, Belgium
ATTACH;FMTTYPE=image/jpeg:https://www.magie-des-jardins.be/storage/2022/06/vertumne-sept18_7.jpeg
END:VEVENT
END:VCALENDAR